BEGIN:VCALENDAR
VERSION:2.0
PRODID:-//wp-events-plugin.com//7.2.3.1//EN
TZID:Europe/Madrid
X-WR-TIMEZONE:Europe/Madrid
BEGIN:VEVENT
UID:1-114@motril.es
DTSTART;TZID=Europe/Madrid:20241227T190000
DTEND;TZID=Europe/Madrid:20241227T203000
DTSTAMP:20241129T071617Z
URL:https://motril.es/eventos/concierto-coral-son-de-cana/
SUMMARY:CONCIERTO CORAL SON DE CAÑA
DESCRIPTION:Concierto de villancicos de la coral motrileña junto al hogar 
 del pensionista de la calle Ancha.\nActividad GRATUITA\n
ATTACH;FMTTYPE=image/jpeg:https://motril.es/wp-content/uploads/2024/11/Des
 igner-5.jpeg
CATEGORIES:Evento Cultura,Evento Fiestas
LOCATION:Plaza Violinista Manuel Pérez Díaz\, Plaza Violinista Manuel Pé
 rez Díaz\, Motril\, Granada\, 18600\, España
X-APPLE-STRUCTURED-LOCATION;VALUE=URI;X-ADDRESS=Plaza Violinista Manuel Pé
 rez Díaz\, Motril\, Granada\, 18600\, España;X-APPLE-RADIUS=100;X-TITLE=
 Plaza Violinista Manuel Pérez Díaz:geo:0,0
END:VEVENT
BEGIN:VTIMEZONE
TZID:Europe/Madrid
X-LIC-LOCATION:Europe/Madrid
BEGIN:STANDARD
DTSTART:20241027T020000
TZOFFSETFROM:+0200
TZOFFSETTO:+0100
TZNAME:CET
END:STANDARD
END:VTIMEZONE
END:VCALENDAR