BEGIN:VCALENDAR
VERSION:2.0
PRODID:-//wp-events-plugin.com//7.2.3.1//EN
TZID:Europe/Madrid
X-WR-TIMEZONE:Europe/Madrid
BEGIN:VEVENT
UID:1-91@motril.es
DTSTART;TZID=Europe/Madrid:20241214T113000
DTEND;TZID=Europe/Madrid:20241214T133000
DTSTAMP:20241128T122142Z
URL:https://motril.es/eventos/cuentacuentos-y-taller-infantil/
SUMMARY:CUENTACUENTOS Y TALLER INFANTIL
DESCRIPTION:Disfrutad de una mañana llena de magia y creatividad en un cue
 ntacuentos navideño junto a un taller de manualidades para crear decoraci
 ón navideña.\nActividad GRATUITA.
ATTACH;FMTTYPE=image/jpeg:https://motril.es/wp-content/uploads/2024/11/Wha
 tsApp-Image-2024-11-26-at-16.07.18-1.jpeg
CATEGORIES:Evento Salud y Consumo
LOCATION:Mercado Municipal\, Mercado Municipal\, Motril\, 18600\, Granada\,
  España
X-APPLE-STRUCTURED-LOCATION;VALUE=URI;X-ADDRESS=Mercado Municipal\, Motril\
 , 18600\, Granada\, España;X-APPLE-RADIUS=100;X-TITLE=Mercado Municipal:g
 eo:0,0
END:VEVENT
BEGIN:VTIMEZONE
TZID:Europe/Madrid
X-LIC-LOCATION:Europe/Madrid
BEGIN:STANDARD
DTSTART:20241027T020000
TZOFFSETFROM:+0200
TZOFFSETTO:+0100
TZNAME:CET
END:STANDARD
END:VTIMEZONE
END:VCALENDAR