BEGIN:VCALENDAR
VERSION:2.0
PRODID:-//wp-events-plugin.com//7.2.3.1//EN
TZID:Europe/Madrid
X-WR-TIMEZONE:Europe/Madrid
BEGIN:VEVENT
UID:1-57@motril.es
DTSTART;TZID=Europe/Madrid:20240920T170000
DTEND;TZID=Europe/Madrid:20240920T180000
DTSTAMP:20240923T090912Z
URL:https://motril.es/eventos/dia-de-la-movilidad/
SUMMARY:Día de la movilidad
DESCRIPTION:Viernes\, 20 de Septiembre\, 2024\n\nRuta en bicicleta.\nSalida
  desde el Polideportivo a las 17 h.\n\nParque de los Pueblos de América:\
 nColchones hinchables\, gymkanas\, exposición de vehículos eléctricos
ATTACH;FMTTYPE=image/jpeg:https://motril.es/wp-content/uploads/2024/09/202
 4_DIA_DE_LA_MOVILIDAD.jpg
CATEGORIES:Evento Deportes
END:VEVENT
BEGIN:VTIMEZONE
TZID:Europe/Madrid
X-LIC-LOCATION:Europe/Madrid
BEGIN:DAYLIGHT
DTSTART:20240331T030000
TZOFFSETFROM:+0100
TZOFFSETTO:+0200
TZNAME:CEST
END:DAYLIGHT
END:VTIMEZONE
END:VCALENDAR