BEGIN:VCALENDAR
VERSION:2.0
PRODID:-//wp-events-plugin.com//7.2.3.1//EN
TZID:Europe/Madrid
X-WR-TIMEZONE:Europe/Madrid
BEGIN:VEVENT
UID:1-32@motril.es
DTSTART;TZID=Europe/Madrid:20240422T000000
DTEND;TZID=Europe/Madrid:20240517T000000
DTSTAMP:20240508T105625Z
URL:https://motril.es/eventos/exposicion-fotografica-micromecenazgo-afogra
 /
SUMMARY:Exposición fotográfica - Micromecenazgo AFOGRA
DESCRIPTION:Entrada libre.\n\nMaría Benavente León - La Forma Acostumbrad
 a\n\nLaura Martínez Gómez - Las Calles de Atrás\n\n
ATTACH;FMTTYPE=image/jpeg:https://motril.es/wp-content/uploads/2024/05/Exp
 osicion-Fotografica.jpg
CATEGORIES:Evento Cultura
LOCATION:Centro de Arte José Hernández Quero\, Palacio Ruíz de Castro\, 
 Palacio Ruíz de Castro\, Calle Ruíz\, 2\, Motril\, Granada\, 18600\, Esp
 aña
X-APPLE-STRUCTURED-LOCATION;VALUE=URI;X-ADDRESS=Palacio Ruíz de Castro\, C
 alle Ruíz\, 2\, Motril\, Granada\, 18600\, España;X-APPLE-RADIUS=100;X-T
 ITLE=Centro de Arte José Hernández Quero\, Palacio Ruíz de Castro:geo:0
 ,0
END:VEVENT
BEGIN:VTIMEZONE
TZID:Europe/Madrid
X-LIC-LOCATION:Europe/Madrid
BEGIN:DAYLIGHT
DTSTART:20240331T030000
TZOFFSETFROM:+0100
TZOFFSETTO:+0200
TZNAME:CEST
END:DAYLIGHT
END:VTIMEZONE
END:VCALENDAR