BEGIN:VCALENDAR
VERSION:2.0
PRODID:-//wp-events-plugin.com//7.2.3.1//EN
TZID:Europe/Madrid
X-WR-TIMEZONE:Europe/Madrid
BEGIN:VEVENT
UID:1-106@motril.es
DTSTART;TZID=Europe/Madrid:20241220T203000
DTEND;TZID=Europe/Madrid:20241221T230000
DTSTAMP:20241128T132753Z
URL:https://motril.es/eventos/gala-motril-y-su-arte/
SUMMARY:GALA MOTRIL Y SU ARTE
DESCRIPTION:Un festival donde participarán todas las ESCUELAS DE DANZA DE 
 MOTRIL\, y la ESCUELA SALANCE\nJANSSENS de Almuñécar que mostrarán su t
 rabajo sobre las tablas del Teatro Calderón.\nEl precio de la entrada y s
 erá destinada al comedor social “Virgen de la Cabeza”\nAnticipada Rin
 cón de Nuna: 6 € / Taquilla: 8 €
ATTACH;FMTTYPE=image/jpeg:https://motril.es/wp-content/uploads/2024/11/Wha
 tsApp-Image-2024-11-19-at-13.11.12.jpeg
CATEGORIES:Evento Fiestas
LOCATION:Teatro Calderón de la Barca\, Plaza Paulino Bellido\, Motril\, 18
 600\, Granada\, España
X-APPLE-STRUCTURED-LOCATION;VALUE=URI;X-ADDRESS=Plaza Paulino Bellido\, Mot
 ril\, 18600\, Granada\, España;X-APPLE-RADIUS=100;X-TITLE=Teatro Calderó
 n de la Barca:geo:0,0
END:VEVENT
BEGIN:VTIMEZONE
TZID:Europe/Madrid
X-LIC-LOCATION:Europe/Madrid
BEGIN:STANDARD
DTSTART:20241027T020000
TZOFFSETFROM:+0200
TZOFFSETTO:+0100
TZNAME:CET
END:STANDARD
END:VTIMEZONE
END:VCALENDAR