BEGIN:VCALENDAR
VERSION:2.0
PRODID:-//wp-events-plugin.com//7.2.3.1//EN
TZID:Europe/Madrid
X-WR-TIMEZONE:Europe/Madrid
BEGIN:VEVENT
UID:1-95@motril.es
DTSTART;TZID=Europe/Madrid:20241217T120000
DTEND;TZID=Europe/Madrid:20241217T140000
DTSTAMP:20241128T124227Z
URL:https://motril.es/eventos/show-cooking/
SUMMARY:SHOW COOKING
DESCRIPTION:Nuestro gran chef motrileño IVAN MATEO nos realizará\nun plat
 o navideño.\nActividad GRATUITA.
ATTACH;FMTTYPE=image/jpeg:https://motril.es/wp-content/uploads/2024/11/OIP
 .jpg
CATEGORIES:Evento Salud y Consumo
LOCATION:Plaza del Mercado Municipal\, Plaza del Mercado Municipal\, Motril
 \, 18600\, Granada\, España
X-APPLE-STRUCTURED-LOCATION;VALUE=URI;X-ADDRESS=Plaza del Mercado Municipal
 \, Motril\, 18600\, Granada\, España;X-APPLE-RADIUS=100;X-TITLE=Plaza del
  Mercado Municipal:geo:0,0
END:VEVENT
BEGIN:VTIMEZONE
TZID:Europe/Madrid
X-LIC-LOCATION:Europe/Madrid
BEGIN:STANDARD
DTSTART:20241027T020000
TZOFFSETFROM:+0200
TZOFFSETTO:+0100
TZNAME:CET
END:STANDARD
END:VTIMEZONE
END:VCALENDAR