BEGIN:VCALENDAR
VERSION:2.0
PRODID:-//wp-events-plugin.com//7.2.3.1//EN
TZID:Europe/Madrid
X-WR-TIMEZONE:Europe/Madrid
BEGIN:VEVENT
UID:1-122@motril.es
DTSTART;TZID=Europe/Madrid:20241230T190000
DTEND;TZID=Europe/Madrid:20241230T200000
DTSTAMP:20241129T074045Z
URL:https://motril.es/eventos/sorteo-del-calendario-de-adviento/
SUMMARY:SORTEO DEL CALENDARIO DE ADVIENTO
DESCRIPTION:Descubre quiénes se llevarán los fantásticos regalos del CAL
 ENDARIO DE ADVIENTO de la Asociación de Comerciantes de Motril. La ubicac
 ión será revelada 24 horas antes\, ¡mantente atento! Vive con nosotros 
 la emoción del Gran Sorteo Final. ¡No te lo pierdas!\nActividad GRATUITA
 .\n\nOrganiza Asociación de Comerciantes de Motril\, colabora Área de Co
 mercio y Área\nde Juventud\, Fiestas y Eventos
ATTACH;FMTTYPE=image/jpeg:https://motril.es/wp-content/uploads/2024/11/Wha
 tsApp-Image-2024-11-20-at-19.42.20-1.jpeg
CATEGORIES:Evento Fiestas,Evento Salud y Consumo
END:VEVENT
BEGIN:VTIMEZONE
TZID:Europe/Madrid
X-LIC-LOCATION:Europe/Madrid
BEGIN:STANDARD
DTSTART:20241027T020000
TZOFFSETFROM:+0200
TZOFFSETTO:+0100
TZNAME:CET
END:STANDARD
END:VTIMEZONE
END:VCALENDAR