BEGIN:VCALENDAR
VERSION:2.0
PRODID:-//wp-events-plugin.com//7.2.3.1//EN
TZID:Europe/Madrid
X-WR-TIMEZONE:Europe/Madrid
BEGIN:VEVENT
UID:1-53@motril.es
DTSTART;TZID=Europe/Madrid:20240921T110000
DTEND;TZID=Europe/Madrid:20240921T120000
DTSTAMP:20240913T161835Z
URL:https://motril.es/eventos/una-ruta-diferente-azucar-y-chocolate/
SUMMARY:Una ruta diferente: azúcar y chocolate
DESCRIPTION:20/07\, 17/08 y 21/09\n\nIncluye:\n\n-Explicación sobre la Fá
 brica del Pilar y otros ingenios azucareros\n\n-Degustación de chocolate 
 (cortesía de Chocolates La Virgitana)\n\n-Una consumición en el Restaura
 nte Museo del Azúcar\n\nMás información y reservas: 614 340199 / 722 68
 0396
ATTACH;FMTTYPE=image/jpeg:https://motril.es/wp-content/uploads/2024/09/azu
 car_2_nerja_20240628_135254_0000_1.png
CATEGORIES:Evento Cultura,Evento Turismo
LOCATION:Motril\, -\, Motril\, Granada\, 18600\, España
X-APPLE-STRUCTURED-LOCATION;VALUE=URI;X-ADDRESS=-\, Motril\, Granada\, 1860
 0\, España;X-APPLE-RADIUS=100;X-TITLE=Motril:geo:0,0
END:VEVENT
BEGIN:VTIMEZONE
TZID:Europe/Madrid
X-LIC-LOCATION:Europe/Madrid
BEGIN:DAYLIGHT
DTSTART:20240331T030000
TZOFFSETFROM:+0100
TZOFFSETTO:+0200
TZNAME:CEST
END:DAYLIGHT
END:VTIMEZONE
END:VCALENDAR